BEGIN:VCALENDAR
VERSION:2.0
PRODID:-//Verkehrsverein Werne e.V. - ECPv6.15.20//NONSGML v1.0//EN
CALSCALE:GREGORIAN
METHOD:PUBLISH
X-WR-CALNAME:Verkehrsverein Werne e.V.
X-ORIGINAL-URL:https://verkehrsverein-werne.de
X-WR-CALDESC:Veranstaltungen fÃ¼r Verkehrsverein Werne e.V.
REFRESH-INTERVAL;VALUE=DURATION:PT1H
X-Robots-Tag:noindex
X-PUBLISHED-TTL:PT1H
BEGIN:VTIMEZONE
TZID:Europe/Berlin
BEGIN:DAYLIGHT
TZOFFSETFROM:+0100
TZOFFSETTO:+0200
TZNAME:CEST
DTSTART:20240331T010000
END:DAYLIGHT
BEGIN:STANDARD
TZOFFSETFROM:+0200
TZOFFSETTO:+0100
TZNAME:CET
DTSTART:20241027T010000
END:STANDARD
BEGIN:DAYLIGHT
TZOFFSETFROM:+0100
TZOFFSETTO:+0200
TZNAME:CEST
DTSTART:20250330T010000
END:DAYLIGHT
BEGIN:STANDARD
TZOFFSETFROM:+0200
TZOFFSETTO:+0100
TZNAME:CET
DTSTART:20251026T010000
END:STANDARD
BEGIN:DAYLIGHT
TZOFFSETFROM:+0100
TZOFFSETTO:+0200
TZNAME:CEST
DTSTART:20260329T010000
END:DAYLIGHT
BEGIN:STANDARD
TZOFFSETFROM:+0200
TZOFFSETTO:+0100
TZNAME:CET
DTSTART:20261025T010000
END:STANDARD
END:VTIMEZONE
BEGIN:VEVENT
DTSTART;TZID=Europe/Berlin:20251201T130000
DTEND;TZID=Europe/Berlin:20251201T170000
DTSTAMP:20260425T190323
CREATED:20241120T090847Z
LAST-MODIFIED:20241120T090847Z
UID:8259-1764594000-1764608400@verkehrsverein-werne.de
SUMMARY:Rentenberatung oder Antragsstellung zur gesetzlichen Rente
DESCRIPTION:Rentenberatung oder Antragsstellung zur gesetzlichen Rente \nWÃ¤hrend des Termins werden Beratungen durchgefÃ¼hrt oder AntrÃ¤ge zur gesetzlichen Rente aufgenommen.\nDieser Service ist auch fÃ¼r Nichtmitglieder des VdK gedacht \n&#8211; ACHTUNG: Eine vorherige Terminvereinbarung ist zwingend erforderlich.\nPersonen ohne Termin erhalten KEINEN Zutritt. Bitte vor der (ggf. geschlossenen) GeschÃ¤ftsstelle warten\, bis eine Aufforderung zum Eintritt erfolgt \nDie Terminvereinbarung erfolgt unter: Telefon: 01522/204 18 55 (NUR wochentags) bei Uwe Wittenberg (VersichertenÃ¤ltester der Deutschen Rentenversicherung Westfalen) \nVdK_DRV_Unterlagen_Hinterbliebenenrente \nVdK_DRV_Unterlagen_Altersrente \nVdK_DRV_Unterlagen_EMRente
URL:https://verkehrsverein-werne.de/event/rentenberatung-oder-antragsstellung-zur-gesetzlichen-rente-35/
LOCATION:Verkehrsverein Werne\, Roggenmarkt 13\, Roggenmarkt\, Werne\, NRW\, 59368\, Deutschland
CATEGORIES:Verkehrsverein
ORGANIZER;CN="VdK OV Werne / Versicherten%C3%A4ltester Uwe Wittenberg":MAILTO:u.wittenberg-drv@online.de
END:VEVENT
BEGIN:VEVENT
DTSTART;TZID=Europe/Berlin:20251202T140000
DTEND;TZID=Europe/Berlin:20251202T160000
DTSTAMP:20260425T190323
CREATED:20241120T092422Z
LAST-MODIFIED:20241120T092422Z
UID:8309-1764684000-1764691200@verkehrsverein-werne.de
SUMMARY:Allgemeine Sozialsprechstunde
DESCRIPTION:Allgemeine Sozialsprechstunde \nWÃ¤hrend des Termins kÃ¶nnen Schwerbehindertenangelegenheiten incl. Antragstellung und WidersprÃ¼che sowie Rechts- und Rententhemen (KEINE Rechts- und Rentenberatung) besprochen werden. \nDieser Service ist auch fÃ¼r Nichtmitglieder des VdK gedacht.  \nEine Voranmeldungen ist dringend erforderlich. Tel.: 01522 / 204 18 55 Uwe Wittenberg. \nHinweis: Die RÃ¤ume sind nicht barrierefrei\, es sind 3 Stufen vorhanden!!
URL:https://verkehrsverein-werne.de/event/allgemeine-sozialsprechstunde-71/
LOCATION:Verkehrsverein Werne\, Roggenmarkt 13\, Roggenmarkt\, Werne\, NRW\, 59368\, Deutschland
CATEGORIES:Verkehrsverein
ORGANIZER;CN="VdK OV Werne / Versicherten%C3%A4ltester Uwe Wittenberg":MAILTO:u.wittenberg-drv@online.de
END:VEVENT
BEGIN:VEVENT
DTSTART;TZID=Europe/Berlin:20251215T130000
DTEND;TZID=Europe/Berlin:20251215T170000
DTSTAMP:20260425T190323
CREATED:20241120T090920Z
LAST-MODIFIED:20241120T090920Z
UID:8261-1765803600-1765818000@verkehrsverein-werne.de
SUMMARY:Rentenberatung oder Antragsstellung zur gesetzlichen Rente
DESCRIPTION:Rentenberatung oder Antragsstellung zur gesetzlichen Rente \nWÃ¤hrend des Termins werden Beratungen durchgefÃ¼hrt oder AntrÃ¤ge zur gesetzlichen Rente aufgenommen.\nDieser Service ist auch fÃ¼r Nichtmitglieder des VdK gedacht \n&#8211; ACHTUNG: Eine vorherige Terminvereinbarung ist zwingend erforderlich.\nPersonen ohne Termin erhalten KEINEN Zutritt. Bitte vor der (ggf. geschlossenen) GeschÃ¤ftsstelle warten\, bis eine Aufforderung zum Eintritt erfolgt \nDie Terminvereinbarung erfolgt unter: Telefon: 01522/204 18 55 (NUR wochentags) bei Uwe Wittenberg (VersichertenÃ¤ltester der Deutschen Rentenversicherung Westfalen) \nVdK_DRV_Unterlagen_Hinterbliebenenrente \nVdK_DRV_Unterlagen_Altersrente \nVdK_DRV_Unterlagen_EMRente
URL:https://verkehrsverein-werne.de/event/rentenberatung-oder-antragsstellung-zur-gesetzlichen-rente-36/
LOCATION:Verkehrsverein Werne\, Roggenmarkt 13\, Roggenmarkt\, Werne\, NRW\, 59368\, Deutschland
CATEGORIES:Verkehrsverein
ORGANIZER;CN="VdK OV Werne / Versicherten%C3%A4ltester Uwe Wittenberg":MAILTO:u.wittenberg-drv@online.de
END:VEVENT
BEGIN:VEVENT
DTSTART;TZID=Europe/Berlin:20251216T160000
DTEND;TZID=Europe/Berlin:20251216T180000
DTSTAMP:20260425T190323
CREATED:20241120T092454Z
LAST-MODIFIED:20241120T092454Z
UID:8311-1765900800-1765908000@verkehrsverein-werne.de
SUMMARY:Allgemeine Sozialsprechstunde
DESCRIPTION:Allgemeine Sozialsprechstunde \nWÃ¤hrend des Termins kÃ¶nnen Schwerbehindertenangelegenheiten incl. Antragstellung und WidersprÃ¼che sowie Rechts- und Rententhemen (KEINE Rechts- und Rentenberatung) besprochen werden. \nDieser Service ist auch fÃ¼r Nichtmitglieder des VdK gedacht.  \nEine Voranmeldungen ist dringend erforderlich. Tel.: 01522 / 204 18 55 Uwe Wittenberg. \nHinweis: Die RÃ¤ume sind nicht barrierefrei\, es sind 3 Stufen vorhanden!!
URL:https://verkehrsverein-werne.de/event/allgemeine-sozialsprechstunde-72/
LOCATION:Verkehrsverein Werne\, Roggenmarkt 13\, Roggenmarkt\, Werne\, NRW\, 59368\, Deutschland
CATEGORIES:Verkehrsverein
ORGANIZER;CN="VdK OV Werne / Versicherten%C3%A4ltester Uwe Wittenberg":MAILTO:u.wittenberg-drv@online.de
END:VEVENT
END:VCALENDAR