BEGIN:VCALENDAR
VERSION:2.0
PRODID:-//Verkehrsverein Werne e.V. - ECPv6.15.20//NONSGML v1.0//EN
CALSCALE:GREGORIAN
METHOD:PUBLISH
X-WR-CALNAME:Verkehrsverein Werne e.V.
X-ORIGINAL-URL:https://verkehrsverein-werne.de
X-WR-CALDESC:Veranstaltungen fÃ¼r Verkehrsverein Werne e.V.
REFRESH-INTERVAL;VALUE=DURATION:PT1H
X-Robots-Tag:noindex
X-PUBLISHED-TTL:PT1H
BEGIN:VTIMEZONE
TZID:Europe/Berlin
BEGIN:DAYLIGHT
TZOFFSETFROM:+0100
TZOFFSETTO:+0200
TZNAME:CEST
DTSTART:20240331T010000
END:DAYLIGHT
BEGIN:STANDARD
TZOFFSETFROM:+0200
TZOFFSETTO:+0100
TZNAME:CET
DTSTART:20241027T010000
END:STANDARD
BEGIN:DAYLIGHT
TZOFFSETFROM:+0100
TZOFFSETTO:+0200
TZNAME:CEST
DTSTART:20250330T010000
END:DAYLIGHT
BEGIN:STANDARD
TZOFFSETFROM:+0200
TZOFFSETTO:+0100
TZNAME:CET
DTSTART:20251026T010000
END:STANDARD
BEGIN:DAYLIGHT
TZOFFSETFROM:+0100
TZOFFSETTO:+0200
TZNAME:CEST
DTSTART:20260329T010000
END:DAYLIGHT
BEGIN:STANDARD
TZOFFSETFROM:+0200
TZOFFSETTO:+0100
TZNAME:CET
DTSTART:20261025T010000
END:STANDARD
END:VTIMEZONE
BEGIN:VEVENT
DTSTART;TZID=Europe/Berlin:20251007T140000
DTEND;TZID=Europe/Berlin:20251007T160000
DTSTAMP:20260425T215559
CREATED:20241120T092144Z
LAST-MODIFIED:20241120T092144Z
UID:8300-1759845600-1759852800@verkehrsverein-werne.de
SUMMARY:Allgemeine Sozialsprechstunde
DESCRIPTION:Allgemeine Sozialsprechstunde \nWÃ¤hrend des Termins kÃ¶nnen Schwerbehindertenangelegenheiten incl. Antragstellung und WidersprÃ¼che sowie Rechts- und Rententhemen (KEINE Rechts- und Rentenberatung) besprochen werden. \nDieser Service ist auch fÃ¼r Nichtmitglieder des VdK gedacht.  \nEine Voranmeldungen ist dringend erforderlich. Tel.: 01522 / 204 18 55 Uwe Wittenberg. \nHinweis: Die RÃ¤ume sind nicht barrierefrei\, es sind 3 Stufen vorhanden!!
URL:https://verkehrsverein-werne.de/event/allgemeine-sozialsprechstunde-67/
LOCATION:Verkehrsverein Werne\, Roggenmarkt 13\, Roggenmarkt\, Werne\, NRW\, 59368\, Deutschland
CATEGORIES:Verkehrsverein
ORGANIZER;CN="VdK OV Werne / Versicherten%C3%A4ltester Uwe Wittenberg":MAILTO:u.wittenberg-drv@online.de
END:VEVENT
BEGIN:VEVENT
DTSTART;TZID=Europe/Berlin:20251013T130000
DTEND;TZID=Europe/Berlin:20251013T170000
DTSTAMP:20260425T215559
CREATED:20241120T090615Z
LAST-MODIFIED:20241120T090615Z
UID:8251-1760360400-1760374800@verkehrsverein-werne.de
SUMMARY:Rentenberatung oder Antragsstellung zur gesetzlichen Rente
DESCRIPTION:Rentenberatung oder Antragsstellung zur gesetzlichen Rente \nWÃ¤hrend des Termins werden Beratungen durchgefÃ¼hrt oder AntrÃ¤ge zur gesetzlichen Rente aufgenommen.\nDieser Service ist auch fÃ¼r Nichtmitglieder des VdK gedacht \n&#8211; ACHTUNG: Eine vorherige Terminvereinbarung ist zwingend erforderlich.\nPersonen ohne Termin erhalten KEINEN Zutritt. Bitte vor der (ggf. geschlossenen) GeschÃ¤ftsstelle warten\, bis eine Aufforderung zum Eintritt erfolgt \nDie Terminvereinbarung erfolgt unter: Telefon: 01522/204 18 55 (NUR wochentags) bei Uwe Wittenberg (VersichertenÃ¤ltester der Deutschen Rentenversicherung Westfalen) \nVdK_DRV_Unterlagen_Hinterbliebenenrente \nVdK_DRV_Unterlagen_Altersrente \nVdK_DRV_Unterlagen_EMRente
URL:https://verkehrsverein-werne.de/event/rentenberatung-oder-antragsstellung-zur-gesetzlichen-rente-31/
LOCATION:Verkehrsverein Werne\, Roggenmarkt 13\, Roggenmarkt\, Werne\, NRW\, 59368\, Deutschland
CATEGORIES:Verkehrsverein
ORGANIZER;CN="VdK OV Werne / Versicherten%C3%A4ltester Uwe Wittenberg":MAILTO:u.wittenberg-drv@online.de
END:VEVENT
BEGIN:VEVENT
DTSTART;TZID=Europe/Berlin:20251020T130000
DTEND;TZID=Europe/Berlin:20251020T170000
DTSTAMP:20260425T215559
CREATED:20241120T090658Z
LAST-MODIFIED:20241120T090658Z
UID:8253-1760965200-1760979600@verkehrsverein-werne.de
SUMMARY:Rentenberatung oder Antragsstellung zur gesetzlichen Rente
DESCRIPTION:Rentenberatung oder Antragsstellung zur gesetzlichen Rente \nWÃ¤hrend des Termins werden Beratungen durchgefÃ¼hrt oder AntrÃ¤ge zur gesetzlichen Rente aufgenommen.\nDieser Service ist auch fÃ¼r Nichtmitglieder des VdK gedacht \n&#8211; ACHTUNG: Eine vorherige Terminvereinbarung ist zwingend erforderlich.\nPersonen ohne Termin erhalten KEINEN Zutritt. Bitte vor der (ggf. geschlossenen) GeschÃ¤ftsstelle warten\, bis eine Aufforderung zum Eintritt erfolgt \nDie Terminvereinbarung erfolgt unter: Telefon: 01522/204 18 55 (NUR wochentags) bei Uwe Wittenberg (VersichertenÃ¤ltester der Deutschen Rentenversicherung Westfalen) \nVdK_DRV_Unterlagen_Hinterbliebenenrente \nVdK_DRV_Unterlagen_Altersrente \nVdK_DRV_Unterlagen_EMRente
URL:https://verkehrsverein-werne.de/event/rentenberatung-oder-antragsstellung-zur-gesetzlichen-rente-32/
LOCATION:Verkehrsverein Werne\, Roggenmarkt 13\, Roggenmarkt\, Werne\, NRW\, 59368\, Deutschland
CATEGORIES:Verkehrsverein
ORGANIZER;CN="VdK OV Werne / Versicherten%C3%A4ltester Uwe Wittenberg":MAILTO:u.wittenberg-drv@online.de
END:VEVENT
BEGIN:VEVENT
DTSTART;TZID=Europe/Berlin:20251021T160000
DTEND;TZID=Europe/Berlin:20251021T180000
DTSTAMP:20260425T215559
CREATED:20241120T092239Z
LAST-MODIFIED:20241120T092722Z
UID:8303-1761062400-1761069600@verkehrsverein-werne.de
SUMMARY:Allgemeine Sozialsprechstunde
DESCRIPTION:Allgemeine Sozialsprechstunde \nWÃ¤hrend des Termins kÃ¶nnen Schwerbehindertenangelegenheiten incl. Antragstellung und WidersprÃ¼che sowie Rechts- und Rententhemen (KEINE Rechts- und Rentenberatung) besprochen werden. \nDieser Service ist auch fÃ¼r Nichtmitglieder des VdK gedacht.  \nEine Voranmeldungen ist dringend erforderlich. Tel.: 01522 / 204 18 55 Uwe Wittenberg. \nHinweis: Die RÃ¤ume sind nicht barrierefrei\, es sind 3 Stufen vorhanden!!
URL:https://verkehrsverein-werne.de/event/allgemeine-sozialsprechstunde-68/
LOCATION:Verkehrsverein Werne\, Roggenmarkt 13\, Roggenmarkt\, Werne\, NRW\, 59368\, Deutschland
CATEGORIES:Verkehrsverein
ORGANIZER;CN="VdK OV Werne / Versicherten%C3%A4ltester Uwe Wittenberg":MAILTO:u.wittenberg-drv@online.de
END:VEVENT
BEGIN:VEVENT
DTSTART;TZID=Europe/Berlin:20251024T160000
DTEND;TZID=Europe/Berlin:20251024T180000
DTSTAMP:20260425T215559
CREATED:20241120T083618Z
LAST-MODIFIED:20241120T083618Z
UID:8212-1761321600-1761328800@verkehrsverein-werne.de
SUMMARY:Kiepenkerl bei SimJÃ¼-FuÃŸballspiel
DESCRIPTION:
URL:https://verkehrsverein-werne.de/event/kiepenkerl-bei-simjue-fussballspiel-3/
LOCATION:NRW
CATEGORIES:Verkehrsverein
ORGANIZER;CN="Verkehrsverein Werne e.V.":MAILTO:info@verkehrsverein-werne.de
END:VEVENT
BEGIN:VEVENT
DTSTART;TZID=Europe/Berlin:20251031T170000
DTEND;TZID=Europe/Berlin:20251031T190000
DTSTAMP:20260425T215559
CREATED:20241120T083838Z
LAST-MODIFIED:20251020T120052Z
UID:8215-1761930000-1761937200@verkehrsverein-werne.de
SUMMARY:Diese Veranstaltung muss leider entfallen !!! Halloween-NachtwÃ¤chterfÃ¼hrung mit Kindern (8-12 Jahre) und Erwachsenen
DESCRIPTION:Diese Veranstaltung muss leider entfallen !!! \n  \nDer â€žNachtwÃ¤chterâ€œ fÃ¼hrt am 31.10.2025 um 18.00 Uhr durch die â€ždunklen und geheimnisvollen GÃ¤sschenâ€œ und stellt Werne â€žbei Nacht und Nebelâ€œ vor. Die Teilnehmer erfahren\, wie es vor 200 Jahren hier aussah\, als es noch keine Kanalisation\, Wasserversorgung und kein elektrisches Licht gab. Auch von Polizei\, Feuerwehr und MÃ¼llabfuhr war noch keine Rede. In der Werner StraÃŸenverordnung von 1843 heiÃŸt es: â€žDas Besudeln der StraÃŸen und Ã¶ffentlichen PlÃ¤tze mit Menschenkoth darf nicht geduldet werden!â€œ Die heute selbstverstÃ¤ndlichen Errungenschaften wurden erst Mitte bis Ende des 19. Jahrhunderts\, die Kanalisation in der Werner Innenstadt sogar erst 1905 eingefÃ¼hrt. \nDer NachtwÃ¤chter\, einer der wenigen Stadtangestellten\, war zu jener Zeit um 1800 jene wichtige Person\, die wÃ¤hrend der Nachtstunden die Funktion von Polizei\, Feuerwehr und die Aufgaben des Ordnungsdienstes Ã¼bernahm\, im Herbst und Winter von 18 bis 6 Uhr und wÃ¤hrend der Sommermonate von 21-5 Uhr in der FrÃ¼h\, also in der Zeit der Dunkelheit\, wenn auch die vier Stadttore (Bonen-\, Neu-\, Stein- und Burgtor) geschlossen waren. Ihm oblag es\, fÃ¼r Recht und Ordnung sowie fÃ¼r die Sicherheit der BÃ¼rger zu sorgen. Auch musste er schauen\, dass sich kein â€žzwielichtiges Gesindelâ€œ in den Gassen von Werne herumtrieb und dass jeder\, der in der Dunkelheit noch schnell nach Hause eilte\, eine Laterne zum â€žHeimleuchtenâ€œ bei sich hatte. \nDiese besondere StadtfÃ¼hrung\, die bei Dunkelheit am alten Rathaus beginnt\, dann entlang der ehemaligen Stadtmauer fÃ¼hrt und schlieÃŸlich nach eineinhalb Stunden mit einem kleinen Umtrunk und Imbiss  endet\, kostet 7\,50 Euro pro Person und kann beim Verkehrsverein Werne\, Roggenmarkt 13 (Tel.:02389531640) gebucht werden. \nAls NachtwÃ¤chter wird die ehemalige Museums- und Archivleiterin Heidelore Fertig-MÃ¶ller sicherlich viel Interessantes und Spannendes zu berichten wissen.
URL:https://verkehrsverein-werne.de/event/halloween-nachtwaechterfuehrung-mit-kindern-und-erwachsenen/
LOCATION:Verkehrsverein Werne\, Roggenmarkt 13\, Roggenmarkt\, Werne\, NRW\, 59368\, Deutschland
CATEGORIES:Verkehrsverein
ORGANIZER;CN="Verkehrsverein Werne e.V.":MAILTO:info@verkehrsverein-werne.de
END:VEVENT
END:VCALENDAR