BEGIN:VCALENDAR
VERSION:2.0
PRODID:-//Verkehrsverein Werne e.V. - ECPv6.15.20//NONSGML v1.0//EN
CALSCALE:GREGORIAN
METHOD:PUBLISH
X-ORIGINAL-URL:https://verkehrsverein-werne.de
X-WR-CALDESC:Veranstaltungen fÃ¼r Verkehrsverein Werne e.V.
REFRESH-INTERVAL;VALUE=DURATION:PT1H
X-Robots-Tag:noindex
X-PUBLISHED-TTL:PT1H
BEGIN:VTIMEZONE
TZID:Europe/Berlin
BEGIN:DAYLIGHT
TZOFFSETFROM:+0100
TZOFFSETTO:+0200
TZNAME:CEST
DTSTART:20240331T010000
END:DAYLIGHT
BEGIN:STANDARD
TZOFFSETFROM:+0200
TZOFFSETTO:+0100
TZNAME:CET
DTSTART:20241027T010000
END:STANDARD
BEGIN:DAYLIGHT
TZOFFSETFROM:+0100
TZOFFSETTO:+0200
TZNAME:CEST
DTSTART:20250330T010000
END:DAYLIGHT
BEGIN:STANDARD
TZOFFSETFROM:+0200
TZOFFSETTO:+0100
TZNAME:CET
DTSTART:20251026T010000
END:STANDARD
BEGIN:DAYLIGHT
TZOFFSETFROM:+0100
TZOFFSETTO:+0200
TZNAME:CEST
DTSTART:20260329T010000
END:DAYLIGHT
BEGIN:STANDARD
TZOFFSETFROM:+0200
TZOFFSETTO:+0100
TZNAME:CET
DTSTART:20261025T010000
END:STANDARD
END:VTIMEZONE
BEGIN:VEVENT
DTSTART;TZID=Europe/Berlin:20250602T130000
DTEND;TZID=Europe/Berlin:20250602T170000
DTSTAMP:20260426T023941
CREATED:20241120T090228Z
LAST-MODIFIED:20241120T090228Z
UID:8239-1748869200-1748883600@verkehrsverein-werne.de
SUMMARY:Rentenberatung oder Antragsstellung zur gesetzlichen Rente
DESCRIPTION:Rentenberatung oder Antragsstellung zur gesetzlichen Rente \nWÃ¤hrend des Termins werden Beratungen durchgefÃ¼hrt oder AntrÃ¤ge zur gesetzlichen Rente aufgenommen.\nDieser Service ist auch fÃ¼r Nichtmitglieder des VdK gedacht \n&#8211; ACHTUNG: Eine vorherige Terminvereinbarung ist zwingend erforderlich.\nPersonen ohne Termin erhalten KEINEN Zutritt. Bitte vor der (ggf. geschlossenen) GeschÃ¤ftsstelle warten\, bis eine Aufforderung zum Eintritt erfolgt \nDie Terminvereinbarung erfolgt unter: Telefon: 01522/204 18 55 (NUR wochentags) bei Uwe Wittenberg (VersichertenÃ¤ltester der Deutschen Rentenversicherung Westfalen) \nVdK_DRV_Unterlagen_Hinterbliebenenrente \nVdK_DRV_Unterlagen_Altersrente \nVdK_DRV_Unterlagen_EMRente
URL:https://verkehrsverein-werne.de/event/rentenberatung-oder-antragsstellung-zur-gesetzlichen-rente-25/
LOCATION:Verkehrsverein Werne\, Roggenmarkt 13\, Roggenmarkt\, Werne\, NRW\, 59368\, Deutschland
CATEGORIES:Verkehrsverein
ORGANIZER;CN="VdK OV Werne / Versicherten%C3%A4ltester Uwe Wittenberg":MAILTO:u.wittenberg-drv@online.de
END:VEVENT
BEGIN:VEVENT
DTSTART;TZID=Europe/Berlin:20250603T140000
DTEND;TZID=Europe/Berlin:20250603T160000
DTSTAMP:20260426T023941
CREATED:20241120T091700Z
LAST-MODIFIED:20241120T091700Z
UID:8284-1748959200-1748966400@verkehrsverein-werne.de
SUMMARY:Allgemeine Sozialsprechstunde
DESCRIPTION:Allgemeine Sozialsprechstunde \nWÃ¤hrend des Termins kÃ¶nnen Schwerbehindertenangelegenheiten incl. Antragstellung und WidersprÃ¼che sowie Rechts- und Rententhemen (KEINE Rechts- und Rentenberatung) besprochen werden. \nDieser Service ist auch fÃ¼r Nichtmitglieder des VdK gedacht.  \nEine Voranmeldungen ist dringend erforderlich. Tel.: 01522 / 204 18 55 Uwe Wittenberg. \nHinweis: Die RÃ¤ume sind nicht barrierefrei\, es sind 3 Stufen vorhanden!!
URL:https://verkehrsverein-werne.de/event/allgemeine-sozialsprechstunde-59/
LOCATION:Verkehrsverein Werne\, Roggenmarkt 13\, Roggenmarkt\, Werne\, NRW\, 59368\, Deutschland
CATEGORIES:Verkehrsverein
ORGANIZER;CN="VdK OV Werne / Versicherten%C3%A4ltester Uwe Wittenberg":MAILTO:u.wittenberg-drv@online.de
END:VEVENT
BEGIN:VEVENT
DTSTART;TZID=Europe/Berlin:20250607T170000
DTEND;TZID=Europe/Berlin:20250607T183000
DTSTAMP:20260426T023941
CREATED:20250331T165609Z
LAST-MODIFIED:20250603T114054Z
UID:8349-1749315600-1749321000@verkehrsverein-werne.de
SUMMARY:StadtfÃ¼hrung â€žAuf den Spuren von Hanna Adlerâ€œ
DESCRIPTION:â€žAuf den Spuren von Hanna Adlerâ€œ â€“ StadtfÃ¼hrung anlÃ¤sslich des 100. Geburtstages   der ehemals in Werne lebenden JÃ¼din\, die heute in Amerika lebt \nTreffpunkt Altes Rathaus/ Marktplatz
URL:https://verkehrsverein-werne.de/event/stadtfuehrung-auf-den-spuren-von-hanna-adler/
LOCATION:Verkehrsverein Werne\, Roggenmarkt 13\, Roggenmarkt\, Werne\, NRW\, 59368\, Deutschland
CATEGORIES:Verkehrsverein
ORGANIZER;CN="Verkehrsverein Werne e.V.":MAILTO:info@verkehrsverein-werne.de
END:VEVENT
BEGIN:VEVENT
DTSTART;TZID=Europe/Berlin:20250617T160000
DTEND;TZID=Europe/Berlin:20250617T180000
DTSTAMP:20260426T023941
CREATED:20241120T091735Z
LAST-MODIFIED:20241120T091735Z
UID:8286-1750176000-1750183200@verkehrsverein-werne.de
SUMMARY:Allgemeine Sozialsprechstunde
DESCRIPTION:Allgemeine Sozialsprechstunde \nWÃ¤hrend des Termins kÃ¶nnen Schwerbehindertenangelegenheiten incl. Antragstellung und WidersprÃ¼che sowie Rechts- und Rententhemen (KEINE Rechts- und Rentenberatung) besprochen werden. \nDieser Service ist auch fÃ¼r Nichtmitglieder des VdK gedacht.  \nEine Voranmeldungen ist dringend erforderlich. Tel.: 01522 / 204 18 55 Uwe Wittenberg. \nHinweis: Die RÃ¤ume sind nicht barrierefrei\, es sind 3 Stufen vorhanden!!
URL:https://verkehrsverein-werne.de/event/allgemeine-sozialsprechstunde-60/
LOCATION:Verkehrsverein Werne\, Roggenmarkt 13\, Roggenmarkt\, Werne\, NRW\, 59368\, Deutschland
CATEGORIES:Verkehrsverein
ORGANIZER;CN="VdK OV Werne / Versicherten%C3%A4ltester Uwe Wittenberg":MAILTO:u.wittenberg-drv@online.de
END:VEVENT
BEGIN:VEVENT
DTSTART;TZID=Europe/Berlin:20250630T130000
DTEND;TZID=Europe/Berlin:20250630T170000
DTSTAMP:20260426T023941
CREATED:20241120T090303Z
LAST-MODIFIED:20241120T090303Z
UID:8241-1751288400-1751302800@verkehrsverein-werne.de
SUMMARY:Rentenberatung oder Antragsstellung zur gesetzlichen Rente
DESCRIPTION:Rentenberatung oder Antragsstellung zur gesetzlichen Rente \nWÃ¤hrend des Termins werden Beratungen durchgefÃ¼hrt oder AntrÃ¤ge zur gesetzlichen Rente aufgenommen.\nDieser Service ist auch fÃ¼r Nichtmitglieder des VdK gedacht \n&#8211; ACHTUNG: Eine vorherige Terminvereinbarung ist zwingend erforderlich.\nPersonen ohne Termin erhalten KEINEN Zutritt. Bitte vor der (ggf. geschlossenen) GeschÃ¤ftsstelle warten\, bis eine Aufforderung zum Eintritt erfolgt \nDie Terminvereinbarung erfolgt unter: Telefon: 01522/204 18 55 (NUR wochentags) bei Uwe Wittenberg (VersichertenÃ¤ltester der Deutschen Rentenversicherung Westfalen) \nVdK_DRV_Unterlagen_Hinterbliebenenrente \nVdK_DRV_Unterlagen_Altersrente \nVdK_DRV_Unterlagen_EMRente
URL:https://verkehrsverein-werne.de/event/rentenberatung-oder-antragsstellung-zur-gesetzlichen-rente-26/
LOCATION:Verkehrsverein Werne\, Roggenmarkt 13\, Roggenmarkt\, Werne\, NRW\, 59368\, Deutschland
CATEGORIES:Verkehrsverein
ORGANIZER;CN="VdK OV Werne / Versicherten%C3%A4ltester Uwe Wittenberg":MAILTO:u.wittenberg-drv@online.de
END:VEVENT
END:VCALENDAR