BEGIN:VCALENDAR
VERSION:2.0
PRODID:-//Verkehrsverein Werne e.V. - ECPv6.15.20//NONSGML v1.0//EN
CALSCALE:GREGORIAN
METHOD:PUBLISH
X-ORIGINAL-URL:https://verkehrsverein-werne.de
X-WR-CALDESC:Veranstaltungen fÃ¼r Verkehrsverein Werne e.V.
REFRESH-INTERVAL;VALUE=DURATION:PT1H
X-Robots-Tag:noindex
X-PUBLISHED-TTL:PT1H
BEGIN:VTIMEZONE
TZID:Europe/Berlin
BEGIN:DAYLIGHT
TZOFFSETFROM:+0100
TZOFFSETTO:+0200
TZNAME:CEST
DTSTART:20240331T010000
END:DAYLIGHT
BEGIN:STANDARD
TZOFFSETFROM:+0200
TZOFFSETTO:+0100
TZNAME:CET
DTSTART:20241027T010000
END:STANDARD
BEGIN:DAYLIGHT
TZOFFSETFROM:+0100
TZOFFSETTO:+0200
TZNAME:CEST
DTSTART:20250330T010000
END:DAYLIGHT
BEGIN:STANDARD
TZOFFSETFROM:+0200
TZOFFSETTO:+0100
TZNAME:CET
DTSTART:20251026T010000
END:STANDARD
BEGIN:DAYLIGHT
TZOFFSETFROM:+0100
TZOFFSETTO:+0200
TZNAME:CEST
DTSTART:20260329T010000
END:DAYLIGHT
BEGIN:STANDARD
TZOFFSETFROM:+0200
TZOFFSETTO:+0100
TZNAME:CET
DTSTART:20261025T010000
END:STANDARD
END:VTIMEZONE
BEGIN:VEVENT
DTSTART;TZID=Europe/Berlin:20250401T140000
DTEND;TZID=Europe/Berlin:20250401T160000
DTSTAMP:20260426T050035
CREATED:20241120T091430Z
LAST-MODIFIED:20241120T091430Z
UID:8276-1743516000-1743523200@verkehrsverein-werne.de
SUMMARY:Allgemeine Sozialsprechstunde
DESCRIPTION:Allgemeine Sozialsprechstunde \nWÃ¤hrend des Termins kÃ¶nnen Schwerbehindertenangelegenheiten incl. Antragstellung und WidersprÃ¼che sowie Rechts- und Rententhemen (KEINE Rechts- und Rentenberatung) besprochen werden. \nDieser Service ist auch fÃ¼r Nichtmitglieder des VdK gedacht.  \nEine Voranmeldungen ist dringend erforderlich. Tel.: 01522 / 204 18 55 Uwe Wittenberg. \nHinweis: Die RÃ¤ume sind nicht barrierefrei\, es sind 3 Stufen vorhanden!!
URL:https://verkehrsverein-werne.de/event/allgemeine-sozialsprechstunde-55/
LOCATION:Verkehrsverein Werne\, Roggenmarkt 13\, Roggenmarkt\, Werne\, NRW\, 59368\, Deutschland
CATEGORIES:Verkehrsverein
ORGANIZER;CN="VdK OV Werne / Versicherten%C3%A4ltester Uwe Wittenberg":MAILTO:u.wittenberg-drv@online.de
END:VEVENT
BEGIN:VEVENT
DTSTART;TZID=Europe/Berlin:20250407T130000
DTEND;TZID=Europe/Berlin:20250407T170000
DTSTAMP:20260426T050035
CREATED:20241120T085953Z
LAST-MODIFIED:20241120T085953Z
UID:8231-1744030800-1744045200@verkehrsverein-werne.de
SUMMARY:Rentenberatung oder Antragsstellung zur gesetzlichen Rente
DESCRIPTION:Rentenberatung oder Antragsstellung zur gesetzlichen Rente \nWÃ¤hrend des Termins werden Beratungen durchgefÃ¼hrt oder AntrÃ¤ge zur gesetzlichen Rente aufgenommen.\nDieser Service ist auch fÃ¼r Nichtmitglieder des VdK gedacht \n&#8211; ACHTUNG: Eine vorherige Terminvereinbarung ist zwingend erforderlich.\nPersonen ohne Termin erhalten KEINEN Zutritt. Bitte vor der (ggf. geschlossenen) GeschÃ¤ftsstelle warten\, bis eine Aufforderung zum Eintritt erfolgt \nDie Terminvereinbarung erfolgt unter: Telefon: 01522/204 18 55 (NUR wochentags) bei Uwe Wittenberg (VersichertenÃ¤ltester der Deutschen Rentenversicherung Westfalen) \nVdK_DRV_Unterlagen_Hinterbliebenenrente \nVdK_DRV_Unterlagen_Altersrente \nVdK_DRV_Unterlagen_EMRente
URL:https://verkehrsverein-werne.de/event/rentenberatung-oder-antragsstellung-zur-gesetzlichen-rente-16/
LOCATION:Verkehrsverein Werne\, Roggenmarkt 13\, Roggenmarkt\, Werne\, NRW\, 59368\, Deutschland
CATEGORIES:Verkehrsverein
ORGANIZER;CN="VdK OV Werne / Versicherten%C3%A4ltester Uwe Wittenberg":MAILTO:u.wittenberg-drv@online.de
END:VEVENT
BEGIN:VEVENT
DTSTART;TZID=Europe/Berlin:20250414T190000
DTEND;TZID=Europe/Berlin:20250414T203000
DTSTAMP:20260426T050035
CREATED:20241120T082956Z
LAST-MODIFIED:20250225T140614Z
UID:8202-1744657200-1744662600@verkehrsverein-werne.de
SUMMARY:Jahreshauptversammlung des Verkehrsvereins
DESCRIPTION:
URL:https://verkehrsverein-werne.de/event/jahreshauptversammlung-des-verkehrsvereins/
LOCATION:Verkehrsverein Werne\, Roggenmarkt 13\, Roggenmarkt\, Werne\, NRW\, 59368\, Deutschland
CATEGORIES:Verkehrsverein
ORGANIZER;CN="Verkehrsverein Werne e.V.":MAILTO:info@verkehrsverein-werne.de
END:VEVENT
BEGIN:VEVENT
DTSTART;TZID=Europe/Berlin:20250415T160000
DTEND;TZID=Europe/Berlin:20250415T180000
DTSTAMP:20260426T050035
CREATED:20241120T091502Z
LAST-MODIFIED:20241120T091502Z
UID:8278-1744732800-1744740000@verkehrsverein-werne.de
SUMMARY:Allgemeine Sozialsprechstunde
DESCRIPTION:Allgemeine Sozialsprechstunde \nWÃ¤hrend des Termins kÃ¶nnen Schwerbehindertenangelegenheiten incl. Antragstellung und WidersprÃ¼che sowie Rechts- und Rententhemen (KEINE Rechts- und Rentenberatung) besprochen werden. \nDieser Service ist auch fÃ¼r Nichtmitglieder des VdK gedacht.  \nEine Voranmeldungen ist dringend erforderlich. Tel.: 01522 / 204 18 55 Uwe Wittenberg. \nHinweis: Die RÃ¤ume sind nicht barrierefrei\, es sind 3 Stufen vorhanden!!
URL:https://verkehrsverein-werne.de/event/allgemeine-sozialsprechstunde-56/
LOCATION:Verkehrsverein Werne\, Roggenmarkt 13\, Roggenmarkt\, Werne\, NRW\, 59368\, Deutschland
CATEGORIES:Verkehrsverein
ORGANIZER;CN="VdK OV Werne / Versicherten%C3%A4ltester Uwe Wittenberg":MAILTO:u.wittenberg-drv@online.de
END:VEVENT
BEGIN:VEVENT
DTSTART;TZID=Europe/Berlin:20250418T060000
DTEND;TZID=Europe/Berlin:20250428T220000
DTSTAMP:20260426T050035
CREATED:20250415T135816Z
LAST-MODIFIED:20250415T135816Z
UID:8374-1744956000-1745877600@verkehrsverein-werne.de
SUMMARY:Betriebsferien
DESCRIPTION:
URL:https://verkehrsverein-werne.de/event/betriebsferien-2/
LOCATION:NRW
CATEGORIES:Verkehrsverein
END:VEVENT
BEGIN:VEVENT
DTSTART;TZID=Europe/Berlin:20250428T130000
DTEND;TZID=Europe/Berlin:20250428T170000
DTSTAMP:20260426T050035
CREATED:20241120T090032Z
LAST-MODIFIED:20241120T090032Z
UID:8233-1745845200-1745859600@verkehrsverein-werne.de
SUMMARY:Rentenberatung oder Antragsstellung zur gesetzlichen Rente
DESCRIPTION:Rentenberatung oder Antragsstellung zur gesetzlichen Rente \nWÃ¤hrend des Termins werden Beratungen durchgefÃ¼hrt oder AntrÃ¤ge zur gesetzlichen Rente aufgenommen.\nDieser Service ist auch fÃ¼r Nichtmitglieder des VdK gedacht \n&#8211; ACHTUNG: Eine vorherige Terminvereinbarung ist zwingend erforderlich.\nPersonen ohne Termin erhalten KEINEN Zutritt. Bitte vor der (ggf. geschlossenen) GeschÃ¤ftsstelle warten\, bis eine Aufforderung zum Eintritt erfolgt \nDie Terminvereinbarung erfolgt unter: Telefon: 01522/204 18 55 (NUR wochentags) bei Uwe Wittenberg (VersichertenÃ¤ltester der Deutschen Rentenversicherung Westfalen) \nVdK_DRV_Unterlagen_Hinterbliebenenrente \nVdK_DRV_Unterlagen_Altersrente \nVdK_DRV_Unterlagen_EMRente
URL:https://verkehrsverein-werne.de/event/rentenberatung-oder-antragsstellung-zur-gesetzlichen-rente-20/
LOCATION:Verkehrsverein Werne\, Roggenmarkt 13\, Roggenmarkt\, Werne\, NRW\, 59368\, Deutschland
CATEGORIES:Verkehrsverein
ORGANIZER;CN="VdK OV Werne / Versicherten%C3%A4ltester Uwe Wittenberg":MAILTO:u.wittenberg-drv@online.de
END:VEVENT
BEGIN:VEVENT
DTSTART;TZID=Europe/Berlin:20250430T170000
DTEND;TZID=Europe/Berlin:20250430T200000
DTSTAMP:20260426T050035
CREATED:20241120T083409Z
LAST-MODIFIED:20250415T135901Z
UID:8208-1746032400-1746043200@verkehrsverein-werne.de
SUMMARY:Aufstellen des Maibaums auf dem Roggenmarkt
DESCRIPTION:Details und genaue Zeit folgen!
URL:https://verkehrsverein-werne.de/event/aufstellen-des-maibaums-auf-dem-roggenmarkt/
LOCATION:Roggenmarkt
CATEGORIES:Verkehrsverein
ORGANIZER;CN="Verkehrsverein Werne e.V.":MAILTO:info@verkehrsverein-werne.de
END:VEVENT
END:VCALENDAR