BEGIN:VCALENDAR
VERSION:2.0
PRODID:-//Verkehrsverein Werne e.V. - ECPv6.15.20//NONSGML v1.0//EN
CALSCALE:GREGORIAN
METHOD:PUBLISH
X-WR-CALNAME:Verkehrsverein Werne e.V.
X-ORIGINAL-URL:https://verkehrsverein-werne.de
X-WR-CALDESC:Veranstaltungen fÃ¼r Verkehrsverein Werne e.V.
REFRESH-INTERVAL;VALUE=DURATION:PT1H
X-Robots-Tag:noindex
X-PUBLISHED-TTL:PT1H
BEGIN:VTIMEZONE
TZID:Europe/Berlin
BEGIN:DAYLIGHT
TZOFFSETFROM:+0100
TZOFFSETTO:+0200
TZNAME:CEST
DTSTART:20240331T010000
END:DAYLIGHT
BEGIN:STANDARD
TZOFFSETFROM:+0200
TZOFFSETTO:+0100
TZNAME:CET
DTSTART:20241027T010000
END:STANDARD
BEGIN:DAYLIGHT
TZOFFSETFROM:+0100
TZOFFSETTO:+0200
TZNAME:CEST
DTSTART:20250330T010000
END:DAYLIGHT
BEGIN:STANDARD
TZOFFSETFROM:+0200
TZOFFSETTO:+0100
TZNAME:CET
DTSTART:20251026T010000
END:STANDARD
BEGIN:DAYLIGHT
TZOFFSETFROM:+0100
TZOFFSETTO:+0200
TZNAME:CEST
DTSTART:20260329T010000
END:DAYLIGHT
BEGIN:STANDARD
TZOFFSETFROM:+0200
TZOFFSETTO:+0100
TZNAME:CET
DTSTART:20261025T010000
END:STANDARD
END:VTIMEZONE
BEGIN:VEVENT
DTSTART;TZID=Europe/Berlin:20250303T110000
DTEND;TZID=Europe/Berlin:20250303T150000
DTSTAMP:20260426T061117
CREATED:20241120T082726Z
LAST-MODIFIED:20241120T082746Z
UID:8199-1740999600-1741014000@verkehrsverein-werne.de
SUMMARY:Karnevalistischer FrÃ¼hschoppen im Verkehrsverein fÃ¼r alle Mitglieder und Freunde
DESCRIPTION:Details entnehmen sie bitte zeitnah aus der Presse.
URL:https://verkehrsverein-werne.de/event/karnevalistischer-fruehschoppen-im-verkehrsverein-fuer-alle-mitglieder-und-freunde/
LOCATION:Verkehrsverein Werne\, Roggenmarkt 13\, Roggenmarkt\, Werne\, NRW\, 59368\, Deutschland
CATEGORIES:Verkehrsverein
ORGANIZER;CN="Verkehrsverein Werne e.V.":MAILTO:info@verkehrsverein-werne.de
END:VEVENT
BEGIN:VEVENT
DTSTART;TZID=Europe/Berlin:20250310T130000
DTEND;TZID=Europe/Berlin:20250310T170000
DTSTAMP:20260426T061117
CREATED:20241120T085834Z
LAST-MODIFIED:20241120T085834Z
UID:8227-1741611600-1741626000@verkehrsverein-werne.de
SUMMARY:Rentenberatung oder Antragsstellung zur gesetzlichen Rente
DESCRIPTION:Rentenberatung oder Antragsstellung zur gesetzlichen Rente \nWÃ¤hrend des Termins werden Beratungen durchgefÃ¼hrt oder AntrÃ¤ge zur gesetzlichen Rente aufgenommen.\nDieser Service ist auch fÃ¼r Nichtmitglieder des VdK gedacht \n&#8211; ACHTUNG: Eine vorherige Terminvereinbarung ist zwingend erforderlich.\nPersonen ohne Termin erhalten KEINEN Zutritt. Bitte vor der (ggf. geschlossenen) GeschÃ¤ftsstelle warten\, bis eine Aufforderung zum Eintritt erfolgt \nDie Terminvereinbarung erfolgt unter: Telefon: 01522/204 18 55 (NUR wochentags) bei Uwe Wittenberg (VersichertenÃ¤ltester der Deutschen Rentenversicherung Westfalen) \nVdK_DRV_Unterlagen_Hinterbliebenenrente \nVdK_DRV_Unterlagen_Altersrente \nVdK_DRV_Unterlagen_EMRente
URL:https://verkehrsverein-werne.de/event/rentenberatung-oder-antragsstellung-zur-gesetzlichen-rente-14/
LOCATION:Verkehrsverein Werne\, Roggenmarkt 13\, Roggenmarkt\, Werne\, NRW\, 59368\, Deutschland
CATEGORIES:Verkehrsverein
ORGANIZER;CN="VdK OV Werne / Versicherten%C3%A4ltester Uwe Wittenberg":MAILTO:u.wittenberg-drv@online.de
END:VEVENT
BEGIN:VEVENT
DTSTART;TZID=Europe/Berlin:20250311T140000
DTEND;TZID=Europe/Berlin:20250311T160000
DTSTAMP:20260426T061117
CREATED:20241120T091251Z
LAST-MODIFIED:20241120T091251Z
UID:8271-1741701600-1741708800@verkehrsverein-werne.de
SUMMARY:Allgemeine Sozialsprechstunde
DESCRIPTION:Allgemeine Sozialsprechstunde \nWÃ¤hrend des Termins kÃ¶nnen Schwerbehindertenangelegenheiten incl. Antragstellung und WidersprÃ¼che sowie Rechts- und Rententhemen (KEINE Rechts- und Rentenberatung) besprochen werden. \nDieser Service ist auch fÃ¼r Nichtmitglieder des VdK gedacht.  \nEine Voranmeldungen ist dringend erforderlich. Tel.: 01522 / 204 18 55 Uwe Wittenberg. \nHinweis: Die RÃ¤ume sind nicht barrierefrei\, es sind 3 Stufen vorhanden!!
URL:https://verkehrsverein-werne.de/event/allgemeine-sozialsprechstunde-53/
LOCATION:Verkehrsverein Werne\, Roggenmarkt 13\, Roggenmarkt\, Werne\, NRW\, 59368\, Deutschland
CATEGORIES:Verkehrsverein
ORGANIZER;CN="VdK OV Werne / Versicherten%C3%A4ltester Uwe Wittenberg":MAILTO:u.wittenberg-drv@online.de
END:VEVENT
BEGIN:VEVENT
DTSTART;TZID=Europe/Berlin:20250317T180000
DTEND;TZID=Europe/Berlin:20250317T193000
DTSTAMP:20260426T061117
CREATED:20250225T140704Z
LAST-MODIFIED:20250225T140704Z
UID:8341-1742234400-1742239800@verkehrsverein-werne.de
SUMMARY:Vorstandssitzung
DESCRIPTION:
URL:https://verkehrsverein-werne.de/event/vorstandssitzung/
LOCATION:Verkehrsverein Werne\, Roggenmarkt 13\, Roggenmarkt\, Werne\, NRW\, 59368\, Deutschland
CATEGORIES:Verkehrsverein
ORGANIZER;CN="Verkehrsverein Werne e.V.":MAILTO:info@verkehrsverein-werne.de
END:VEVENT
BEGIN:VEVENT
DTSTART;TZID=Europe/Berlin:20250324T130000
DTEND;TZID=Europe/Berlin:20250324T170000
DTSTAMP:20260426T061117
CREATED:20241120T085916Z
LAST-MODIFIED:20241120T085916Z
UID:8229-1742821200-1742835600@verkehrsverein-werne.de
SUMMARY:Rentenberatung oder Antragsstellung zur gesetzlichen Rente
DESCRIPTION:Rentenberatung oder Antragsstellung zur gesetzlichen Rente \nWÃ¤hrend des Termins werden Beratungen durchgefÃ¼hrt oder AntrÃ¤ge zur gesetzlichen Rente aufgenommen.\nDieser Service ist auch fÃ¼r Nichtmitglieder des VdK gedacht \n&#8211; ACHTUNG: Eine vorherige Terminvereinbarung ist zwingend erforderlich.\nPersonen ohne Termin erhalten KEINEN Zutritt. Bitte vor der (ggf. geschlossenen) GeschÃ¤ftsstelle warten\, bis eine Aufforderung zum Eintritt erfolgt \nDie Terminvereinbarung erfolgt unter: Telefon: 01522/204 18 55 (NUR wochentags) bei Uwe Wittenberg (VersichertenÃ¤ltester der Deutschen Rentenversicherung Westfalen) \nVdK_DRV_Unterlagen_Hinterbliebenenrente \nVdK_DRV_Unterlagen_Altersrente \nVdK_DRV_Unterlagen_EMRente
URL:https://verkehrsverein-werne.de/event/rentenberatung-oder-antragsstellung-zur-gesetzlichen-rente-15/
LOCATION:Verkehrsverein Werne\, Roggenmarkt 13\, Roggenmarkt\, Werne\, NRW\, 59368\, Deutschland
CATEGORIES:Verkehrsverein
ORGANIZER;CN="VdK OV Werne / Versicherten%C3%A4ltester Uwe Wittenberg":MAILTO:u.wittenberg-drv@online.de
END:VEVENT
BEGIN:VEVENT
DTSTART;TZID=Europe/Berlin:20250325T160000
DTEND;TZID=Europe/Berlin:20250325T180000
DTSTAMP:20260426T061117
CREATED:20241120T091356Z
LAST-MODIFIED:20241120T091356Z
UID:8274-1742918400-1742925600@verkehrsverein-werne.de
SUMMARY:Allgemeine Sozialsprechstunde
DESCRIPTION:Allgemeine Sozialsprechstunde \nWÃ¤hrend des Termins kÃ¶nnen Schwerbehindertenangelegenheiten incl. Antragstellung und WidersprÃ¼che sowie Rechts- und Rententhemen (KEINE Rechts- und Rentenberatung) besprochen werden. \nDieser Service ist auch fÃ¼r Nichtmitglieder des VdK gedacht.  \nEine Voranmeldungen ist dringend erforderlich. Tel.: 01522 / 204 18 55 Uwe Wittenberg. \nHinweis: Die RÃ¤ume sind nicht barrierefrei\, es sind 3 Stufen vorhanden!!
URL:https://verkehrsverein-werne.de/event/allgemeine-sozialsprechstunde-54/
LOCATION:Verkehrsverein Werne\, Roggenmarkt 13\, Roggenmarkt\, Werne\, NRW\, 59368\, Deutschland
CATEGORIES:Verkehrsverein
ORGANIZER;CN="VdK OV Werne / Versicherten%C3%A4ltester Uwe Wittenberg":MAILTO:u.wittenberg-drv@online.de
END:VEVENT
BEGIN:VEVENT
DTSTART;TZID=Europe/Berlin:20250328T170000
DTEND;TZID=Europe/Berlin:20250328T190000
DTSTAMP:20260426T061117
CREATED:20241120T083135Z
LAST-MODIFIED:20241120T083135Z
UID:8204-1743181200-1743188400@verkehrsverein-werne.de
SUMMARY:PrÃ¤sentation des Osterbrunnens im Museumsgarten
DESCRIPTION:Details entnehmen sie bitte zeitnah der Presse.
URL:https://verkehrsverein-werne.de/event/praesentation-des-osterbrunnens-im-museumsgarten-3/
LOCATION:Museumsgarten\, Kirchhof 13\, Werne\, Deutschland\, 59368
CATEGORIES:Verkehrsverein
ORGANIZER;CN="Verkehrsverein Werne e.V.":MAILTO:info@verkehrsverein-werne.de
END:VEVENT
BEGIN:VEVENT
DTSTART;TZID=Europe/Berlin:20250330T080000
DTEND;TZID=Europe/Berlin:20250330T170000
DTSTAMP:20260426T061117
CREATED:20241120T083249Z
LAST-MODIFIED:20241120T083249Z
UID:8206-1743321600-1743354000@verkehrsverein-werne.de
SUMMARY:FÃ¼hrung vor der Walpurgisnacht (Hexen)
DESCRIPTION:Details folgen!!
URL:https://verkehrsverein-werne.de/event/fuehrung-vor-der-walpurgisnacht-hexen/
LOCATION:Verkehrsverein Werne\, Roggenmarkt 13\, Roggenmarkt\, Werne\, NRW\, 59368\, Deutschland
CATEGORIES:Verkehrsverein
ORGANIZER;CN="Verkehrsverein Werne e.V.":MAILTO:info@verkehrsverein-werne.de
END:VEVENT
END:VCALENDAR